BEGIN:VCALENDAR
VERSION:2.0
PRODID:-//ChamberMaster//Event Calendar 2.0//EN
METHOD:PUBLISH
X-PUBLISHED-TTL:P3D
REFRESH-INTERVAL:P3D
CALSCALE:GREGORIAN
BEGIN:VEVENT
DTSTART:20140913T210000Z
DTEND:20140913T230000Z
X-MICROSOFT-CDO-ALLDAYEVENT:FALSE
SUMMARY:Movies at High Rock - 09/13/2014
DESCRIPTION:Free Family movie screening at the High Rock Pavilion at High Rock ParkFree Movie at High Rock Park Pavilion: E.T.http://www.imdb.com/title/tt0083866/?ref_=nv_sr_5
X-ALT-DESC;FMTTYPE=text/html:<p>Free Family movie screening at the High Rock Pavilion at High Rock Park</p><p>Free Movie at High Rock Park Pavilion: E.T.</p><p>http://www.imdb.com/title/tt0083866/?ref_=nv_sr_5</p><p><br /></p>
LOCATION:High Rock Park Pavilion
UID:e.2254.3984
SEQUENCE:3
DTSTAMP:20260424T123901Z
URL:https://chamber.saratoga.org/events/details/movies-at-high-rock-09-13-2014-09-13-2014-3984
END:VEVENT

END:VCALENDAR
