BEGIN:VCALENDAR
VERSION:2.0
PRODID:-//ChamberMaster//Event Calendar 2.0//EN
METHOD:PUBLISH
X-PUBLISHED-TTL:P3D
REFRESH-INTERVAL:P3D
CALSCALE:GREGORIAN
BEGIN:VEVENT
DTSTART:20140809T223000Z
DTEND:20140810T010000Z
X-MICROSOFT-CDO-ALLDAYEVENT:FALSE
SUMMARY:Movies at High Rock - 08/09/2014
DESCRIPTION:Free Screening of Edward Scissorhands - rated PG-13Edward Scissorhands - FREE SCREENING - High Rock Park\, Saratoga Springs - 8:30 pm: Rain or Shine\nRated PG-13http://www.imdb.com/title/tt0099487/parentalguide?ref_=tt_ql_7
X-ALT-DESC;FMTTYPE=text/html:<p>Free Screening of Edward Scissorhands - rated PG-13</p>Edward Scissorhands - FREE SCREENING - High Rock Park\, Saratoga Springs - 8:30 pm: Rain or Shine<br><p>Rated PG-13</p><p>http://www.imdb.com/title/tt0099487/parentalguide?ref_=tt_ql_7</p><p><br /></p>
LOCATION:High Rock Park Pavilion
UID:e.2254.3511
SEQUENCE:3
DTSTAMP:20260424T160117Z
URL:https://chamber.saratoga.org/events/details/movies-at-high-rock-08-09-2014-08-09-2014-3511
END:VEVENT

END:VCALENDAR
