BEGIN:VCALENDAR
VERSION:2.0
PRODID:-//ChamberMaster//Event Calendar 2.0//EN
METHOD:PUBLISH
X-PUBLISHED-TTL:P3D
REFRESH-INTERVAL:P3D
CALSCALE:GREGORIAN
BEGIN:VEVENT
DTSTART:20140805T210000Z
DTEND:20140805T230000Z
X-MICROSOFT-CDO-ALLDAYEVENT:FALSE
SUMMARY:Movies at High Rock - 08/05/2014
DESCRIPTION:Free Family movie screening at the High Rock Pavilion at High Rock ParkTonight's movie screening is Chronicles of Narnia Starts at 7pm.
X-ALT-DESC;FMTTYPE=text/html:<p>Free Family movie screening at the High Rock Pavilion at High Rock Park</p><p>Tonight's movie screening is Chronicles of Narnia&nbsp\;</p><p>Starts at 7pm.</p>
LOCATION:High Rock Park Pavilion
UID:e.2254.3488
SEQUENCE:3
DTSTAMP:20260424T155856Z
URL:https://chamber.saratoga.org/events/details/movies-at-high-rock-08-05-2014-08-05-2014-3488
END:VEVENT

END:VCALENDAR
