BEGIN:VCALENDAR
VERSION:2.0
PRODID:-//ChamberMaster//Event Calendar 2.0//EN
METHOD:PUBLISH
X-PUBLISHED-TTL:P3D
REFRESH-INTERVAL:P3D
CALSCALE:GREGORIAN
BEGIN:VEVENT
DTSTART:20140826T210000Z
DTEND:20140827T000000Z
X-MICROSOFT-CDO-ALLDAYEVENT:FALSE
SUMMARY:Movie Night in the Mr. and Mrs. Ronald A. Riggi Theater - 08/26/2014
DESCRIPTION:Movie Night The National Museum of Dance will be holding its first ever movie night in the Mr. and Mrs. Ronald A. Riggi Theater on Tuesday\, August 26 at 7pm. To Dance Like a Man will be playing for a cost of $5 per person or $8 per person including popcorn and water. Event will take place at 99 South Broadway Saratoga Springs\, NY 12866\, any questions please call 518-584-2225 x3012
X-ALT-DESC;FMTTYPE=text/html:<p>Movie Night </p><p><span style="font-size: 10pt\; line-height: 107%\; font-family: Arial\, sans-serif\; background: white\;">The National Museum of Dance will be holding its first ever movie night in the Mr. and Mrs. Ronald A. Riggi Theater on Tuesday\, August 26 at 7pm. To Dance Like a Man will be playing for a cost of $5 per person or $8 per person including popcorn and water. Event will take place at 99 South Broadway Saratoga Springs\, NY 12866\, any questions please call 518-584-2225 x3012</span></p>
LOCATION:National Museum of Dance
UID:e.2254.3484
SEQUENCE:3
DTSTAMP:20260424T160109Z
URL:https://chamber.saratoga.org/events/details/movie-night-in-the-mr-and-mrs-ronald-a-riggi-theater-08-26-2014-08-26-2014-3484
END:VEVENT

END:VCALENDAR
