BEGIN:VCALENDAR
VERSION:2.0
PRODID:-//ChamberMaster//Event Calendar 2.0//EN
METHOD:PUBLISH
X-PUBLISHED-TTL:P3D
REFRESH-INTERVAL:P3D
CALSCALE:GREGORIAN
BEGIN:VEVENT
DTSTART:20150607T130000Z
DTEND:20150607T190000Z
X-MICROSOFT-CDO-ALLDAYEVENT:FALSE
SUMMARY:Move and Groove 5K - 06/07/2015
DESCRIPTION:5k at the National Museum of Dance \nThe National Museum of Dance is excited to announce its second annual Move & Groove 5k on June 7th at 10am. Beginning and ending at the National Museum of Dance\, this isn't your typical 3.1-mile run! Along the beautiful course throughout the Spa State Park\, there will be (optional) dance stops where participants can learn some new moves from School of the Arts instructors! A Kid's Fun Run\, for younger athletes\, will immediately follow the 5k run on the lawn of the National Museum of Dance\, offering awards to all participants!
X-ALT-DESC;FMTTYPE=text/html:<p>5k at the National Museum of Dance</p><p>&nbsp\;</p>\n<p><em>The National Museum of Dance is excited to announce its second annual Move &amp\; Groove 5k on June 7th&nbsp\;at 10am. Beginning and ending at the National Museum of Dance\, this isn&rsquo\;t your typical 3.1-mile run! Along the beautiful course throughout the Spa State Park\, there will be (optional) dance stops where participants can learn some new moves from School of the Arts instructors! A Kid&rsquo\;s Fun Run\, for younger athletes\, will immediately follow the 5k run on the lawn of the National Museum of Dance\, offering awards to all participants!</em></p>\n<p>&nbsp\;</p>
LOCATION:National Museum of Dance
UID:e.2254.3269
SEQUENCE:3
DTSTAMP:20260423T072937Z
URL:https://chamber.saratoga.org/events/details/move-and-groove-5k-06-07-2015-06-07-2015-3269
END:VEVENT

END:VCALENDAR
