BEGIN:VCALENDAR
VERSION:2.0
PRODID:-//ChamberMaster//Event Calendar 2.0//EN
METHOD:PUBLISH
X-PUBLISHED-TTL:P3D
REFRESH-INTERVAL:P3D
CALSCALE:GREGORIAN
BEGIN:VEVENT
DTSTART:20160326T130000Z
DTEND:20160326T200000Z
X-MICROSOFT-CDO-ALLDAYEVENT:FALSE
SUMMARY:Mountain Gathering Basket with Barbara Boughton. #951-0326.
DESCRIPTION:This basket is woven on a round oak base\, and employs a continuous chase weave to build the sides. Students will learn the process for determining the number of spokes needed for continuous weave\, and be challenged and excited to watch their creations grow with two weavers. A hand-carved oak swing handle with inside-out ears incorporated into the rim finishes this rustically graceful and functional basket. It is woven on a 6" oak base which grows into a 12" diameter basket. Dimensions are approx. 10" high at sides\, 16" high at handle. NOTE: Must be over 12 yrs of age.
X-ALT-DESC;FMTTYPE=text/html:This basket is woven on a round oak base\, and employs a continuous chase weave to build the sides. Students will learn the process for determining the number of spokes needed for continuous weave\, and be challenged and excited to watch their creations grow with two weavers. A hand-carved oak swing handle with inside-out ears incorporated into the rim finishes this rustically graceful and functional basket. It is woven on a 6&quot\; oak base which grows into a 12&quot\; diameter basket. Dimensions are approx. 10&quot\; high at sides\, 16&quot\; high at handle. NOTE: Must be over 12 yrs of age.
LOCATION:Adirondack Folk School\, 51 Main Street\, Lake Luzerne\, NY12046
UID:e.2254.15017
SEQUENCE:3
DTSTAMP:20260422T004808Z
URL:https://chamber.saratoga.org/events/details/mountain-gathering-basket-with-barbara-boughton-951-0326-03-26-2016-15017
END:VEVENT

END:VCALENDAR
