BEGIN:VCALENDAR
VERSION:2.0
PRODID:-//ChamberMaster//Event Calendar 2.0//EN
METHOD:PUBLISH
X-PUBLISHED-TTL:P3D
REFRESH-INTERVAL:P3D
CALSCALE:GREGORIAN
BEGIN:VEVENT
DTSTART:20150315T170000Z
DTEND:20150315T180000Z
X-MICROSOFT-CDO-ALLDAYEVENT:FALSE
SUMMARY:Mountain Folk Music Magic
DESCRIPTION:Nationally acclaimed musician\, singer and songwriter Alex Smith performs in the Froehlich Auditorium. Presented by the Adirondack Museum's Cabin Fever Sundays Series. Performance begins at 1:30pm.  After performance view the exhibition "Wild Nature: Masterworks from the Adirondack Museum" in Wood Gallery.
X-ALT-DESC;FMTTYPE=text/html:<p>Nationally acclaimed musician\, singer and songwriter Alex Smith performs in the Froehlich Auditorium. Presented by the Adirondack Museum's Cabin Fever Sundays Series. Performance begins at 1:30pm. &nbsp\;After performance view the exhibition "Wild Nature: Masterworks from the Adirondack Museum" in Wood Gallery.</p>
LOCATION:The Hyde Collection Art Museum
UID:e.2254.4920
SEQUENCE:3
DTSTAMP:20260423T230334Z
URL:https://chamber.saratoga.org/events/details/mountain-folk-music-magic-03-15-2015-4920
END:VEVENT

END:VCALENDAR
