BEGIN:VCALENDAR
VERSION:2.0
PRODID:-//ChamberMaster//Event Calendar 2.0//EN
METHOD:PUBLISH
X-PUBLISHED-TTL:P3D
REFRESH-INTERVAL:P3D
CALSCALE:GREGORIAN
BEGIN:VEVENT
DTSTART:20150509T153000Z
DTEND:20150509T170000Z
X-MICROSOFT-CDO-ALLDAYEVENT:FALSE
SUMMARY:Mother's Day Children's Pizza Making Class
DESCRIPTION:A Children's Pizza-Making Class is being held Mother's Day weekend from 11:30 a.m. to 1 p.m. Saturday\, May 9 at Forno Bistro. While the children learn how to make their own pizzas and watch them cook in Forno Bistro's iconic wood-fired oven the adults can socialize and enjoy selections from a special Mother's Day lunch menu. Each child will receive a pizza making certificate and a recipe card. Children ages 8 and younger must be accompanied by an adult.
X-ALT-DESC;FMTTYPE=text/html:A Children&#39\;s Pizza-Making Class is being held Mother&#39\;s Day weekend from 11:30 a.m. to 1 p.m. Saturday\, May 9 at Forno Bistro. While the children learn how to make their own pizzas and watch them cook in Forno Bistro&#39\;s iconic wood-fired oven the adults can socialize and enjoy selections from a special Mother&#39\;s Day lunch menu. Each child will receive a pizza making certificate and a recipe card. Children ages 8 and younger must be accompanied by an adult.
LOCATION:Forno Bistro 541 Broadway Saratoga Springs\, NY 12866
UID:e.2254.7768
SEQUENCE:3
DTSTAMP:20260423T170920Z
URL:https://chamber.saratoga.org/events/details/mother-s-day-children-s-pizza-making-class-05-09-2015-7768
END:VEVENT

END:VCALENDAR
