BEGIN:VCALENDAR
VERSION:2.0
PRODID:-//ChamberMaster//Event Calendar 2.0//EN
METHOD:PUBLISH
X-PUBLISHED-TTL:P3D
REFRESH-INTERVAL:P3D
CALSCALE:GREGORIAN
BEGIN:VEVENT
DTSTART:20140913T120000Z
DTEND:20140913T220000Z
X-MICROSOFT-CDO-ALLDAYEVENT:FALSE
SUMMARY:Moreau Community Center's Annual Block Party - 09/13/2014
DESCRIPTION:Enjoy delicious food\, awesome vendors\, music\, petting zoo\, bounce house   obstacle course\, Basket Raffle\, and the Marcabes from 5-8PM!
X-ALT-DESC;FMTTYPE=text/html:<p>Enjoy delicious food\, awesome vendors\, music\, petting zoo\, bounce house & obstacle course\, Basket Raffle\, and the Marcabes from 5-8PM!</p><p align="center"><b>Moreau Community Center's Annual Block Party</b></p><p align="center"><b>144 Main Street</b></p><p align="center"><b>South Glens Falls</b></p><p align="center"><b>September 13\, 2014</b></p><p align="center"><b>10am - 8 pm</b></p><p align="center"><b>Enjoy delicious food\, awesome vendors\, music\, petting zoo\, bounce house &amp\; obstacle course\, Basket Raffle\, and the Marcabes from 5-8PM!<br></b><br>&nbsp\;</p><p  align="center"><br></p><p align="right"></p>
LOCATION:Moreau Community Center
UID:e.2254.3497
SEQUENCE:3
DTSTAMP:20260424T111039Z
URL:https://chamber.saratoga.org/events/details/moreau-community-center-s-annual-block-party-09-13-2014-09-13-2014-3497
END:VEVENT

END:VCALENDAR
