BEGIN:VCALENDAR
VERSION:2.0
PRODID:-//ChamberMaster//Event Calendar 2.0//EN
METHOD:PUBLISH
X-PUBLISHED-TTL:P3D
REFRESH-INTERVAL:P3D
CALSCALE:GREGORIAN
BEGIN:VEVENT
DTSTART:20140905T220000Z
DTEND:20141206T000000Z
X-MICROSOFT-CDO-ALLDAYEVENT:FALSE
SUMMARY:Mopco Underground At Proctors - 09/05/2014
DESCRIPTION:Improv Comedy Shows every friday night at Proctors TheaterImprov comedy company performing every friday night starting at 8pm\, downstairs at Proctors Theater
X-ALT-DESC;FMTTYPE=text/html:<p>Improv Comedy Shows every friday night at Proctors Theater</p><p>Improv comedy company performing every friday night starting at 8pm\, downstairs at Proctors Theater</p>
LOCATION:Proctors Theater
UID:e.2254.2021
SEQUENCE:3
DTSTAMP:20260424T063956Z
URL:https://chamber.saratoga.org/events/details/mopco-underground-at-proctors-09-05-2014-09-05-2014-2021
END:VEVENT

END:VCALENDAR
