BEGIN:VCALENDAR
VERSION:2.0
PRODID:-//ChamberMaster//Event Calendar 2.0//EN
METHOD:PUBLISH
X-PUBLISHED-TTL:P3D
REFRESH-INTERVAL:P3D
CALSCALE:GREGORIAN
BEGIN:VEVENT
DTSTART:20150810T030000Z
DTEND:20150810T030000Z
X-MICROSOFT-CDO-ALLDAYEVENT:FALSE
SUMMARY:Monday Night Mile - 08/09/2015
DESCRIPTION:One Mile Race on the Saratoga Harness Track Benefiting the Saratoga Springs History MuseumThere will be a One Mile Race on the Saratoga Harness Track Benefiting the Saratoga Springs History Museum\, with the first race starting at 5:30pm. The Harness Track is located at the Saratoga Casino and Raceway (NOT the race track) at 242 Jefferson Street in Saratoga Springs. There will be awards for top three male and female overall winners and top three in each age division\, a Celebrity Run   Dress as your favorite character from history for all ages\, AND a Kids   mile Fun Run!\nClick here for the full race schedule\, and to register. You can also register at the race\, the Kids Run is FREE. The money raised will go to support our fantastic History Museum!
X-ALT-DESC;FMTTYPE=text/html:<p>One Mile Race on the Saratoga Harness Track Benefiting the Saratoga Springs History Museum</p><p>There will be a One Mile Race on the Saratoga Harness Track Benefiting the Saratoga Springs History Museum\, with the first race starting at 5:30pm. The Harness Track is located at the Saratoga Casino and Raceway (NOT the race track) at 242 Jefferson Street in Saratoga Springs. There will be awards for top three male and female overall winners and top three in each age division\, a Celebrity Run &ndash\; Dress as your favorite character from history for all ages\, AND a Kids &frac14\; mile Fun Run!</p>\n<p style="text-align: left\;" align="center">Click <a href="http://www.saratogahistory.org/the-monday-night-mile" target="_blank">here</a> for the full race schedule\, and to register. You can also register at the race\, the Kids Run is FREE. The money raised will go to support our fantastic History Museum!</p>
LOCATION:Saratoga Casino and Raceway
UID:e.2254.2207
SEQUENCE:3
DTSTAMP:20260423T063203Z
URL:https://chamber.saratoga.org/events/details/monday-night-mile-08-09-2015-08-09-2015-2207
END:VEVENT

END:VCALENDAR
