BEGIN:VCALENDAR
VERSION:2.0
PRODID:-//ChamberMaster//Event Calendar 2.0//EN
METHOD:PUBLISH
X-PUBLISHED-TTL:P3D
REFRESH-INTERVAL:P3D
CALSCALE:GREGORIAN
BEGIN:VEVENT
DTSTART:20160927T000000Z
DTEND:20160927T030000Z
X-MICROSOFT-CDO-ALLDAYEVENT:FALSE
SUMMARY:Monday Night Football at Queensbury Cigar & Pipe
DESCRIPTION:Catch all the football action here all season long with your favorite cigars\, beer\, wine and food. Plus\, make your picks in the no cost football pool for your chance to win great prizes every week!
X-ALT-DESC;FMTTYPE=text/html:<span style="background-color:rgb(255\, 255\, 255)\; color:rgb(51\, 51\, 51)\; font-family:sans-serif\,arial\,verdana\,trebuchet ms\; font-size:13px">Catch all the football action here all season long with your favorite cigars\, beer\, wine and food. Plus\, make your picks in the no cost football pool for your chance to win great prizes every week!</span>
LOCATION:1036 State Route 9 Queensbury\, New York 12804
UID:e.2254.19659
SEQUENCE:3
DTSTAMP:20260420T232257Z
URL:https://chamber.saratoga.org/events/details/monday-night-football-at-queensbury-cigar-pipe-09-26-2016-19659
END:VEVENT

END:VCALENDAR
