BEGIN:VCALENDAR
VERSION:2.0
PRODID:-//ChamberMaster//Event Calendar 2.0//EN
METHOD:PUBLISH
X-PUBLISHED-TTL:P3D
REFRESH-INTERVAL:P3D
CALSCALE:GREGORIAN
BEGIN:VEVENT
DTSTART:20160924T150000Z
DTEND:20160924T160000Z
X-MICROSOFT-CDO-ALLDAYEVENT:FALSE
SUMMARY:Monarch Butterfly Walk
DESCRIPTION:Join us for a nature walk to learn about the amazing lifecycle of the Monarch butterflies. The walk covers about a mile of gently rolling terrain. We will be looking for the butterflies during their peak season just before they start to migrate to Mexico for the winter. The monarch butterflies love the Preserve & Park for its many nectar species and its open pine/oak savannah. The walk will not take place if there is rain. This is a Hudson River Ramble Event.
X-ALT-DESC;FMTTYPE=text/html:Join us for a nature walk to learn about the amazing lifecycle of the Monarch butterflies. The walk covers about a mile of gently rolling terrain. We will be looking for the butterflies during their peak season just before they start to migrate to Mexico for the winter. The monarch butterflies love the Preserve &amp\; Park for its many nectar species and its open pine/oak savannah. The walk will not take place if there is rain. This is a Hudson River Ramble Event.
LOCATION:Wilton Wildlife Preserve and Park at Camp Saratoga\, Parking Lot 1
UID:e.2254.19531
SEQUENCE:3
DTSTAMP:20260420T231659Z
URL:https://chamber.saratoga.org/events/details/monarch-butterfly-walk-19531
END:VEVENT

END:VCALENDAR
