BEGIN:VCALENDAR
VERSION:2.0
PRODID:-//ChamberMaster//Event Calendar 2.0//EN
METHOD:PUBLISH
X-PUBLISHED-TTL:P3D
REFRESH-INTERVAL:P3D
CALSCALE:GREGORIAN
BEGIN:VEVENT
DTSTART:20140722T020000Z
DTEND:20140722T020000Z
X-MICROSOFT-CDO-ALLDAYEVENT:FALSE
SUMMARY:MOMIX - 07/21/2014
DESCRIPTION:The celebrated troupe of dancer illusionistsThe fantastical\, multi-media artistry of MOMIX\, the celebrated troupe of dancer illusionists led by choreographer Moses Pendleton\, returns to SPAC\nThe company will present reMIX\, a snapshot of MOMIX's most striking images from the past 30 years\, created through MOMIX's signature fusion of dance\, theater\, and cinema. reMIX has been praised as a surreal journey through the unique universe of MOMIX movement that leaves its audiences floating "out on a dizzying high of pleasure" (Chicago Tribune). Famed company founder and choreographer Moses Pendleton will kick off the evening by presenting a pre-performance talk at 7 P.M.  in the Hall of Springs Gold Room.
X-ALT-DESC;FMTTYPE=text/html:<p>The celebrated troupe of dancer illusionists</p><p><span class="EventText">The fantastical\, multi-media artistry of MOMIX\, the celebrated troupe of dancer illusionists led by choreographer Moses Pendleton\, returns to SPAC</span></p>\n<p>The company will present <em>reMIX</em>\, a snapshot of MOMIX&rsquo\;s most striking images from the past 30 years\, created through MOMIX&rsquo\;s signature fusion of dance\, theater\, and cinema. <em>reMIX </em>has been praised as a surreal journey through the unique universe of MOMIX movement that leaves its audiences floating &ldquo\;out on a dizzying high of pleasure&rdquo\; (<em>Chicago Tribune</em>). Famed company founder and choreographer Moses Pendleton will kick off the evening by presenting a pre-performance talk at 7 P.M.&nbsp\; in the Hall of Springs Gold Room. &nbsp\;</p>\n<p>&nbsp\;</p>
LOCATION:Saratoga Performing Arts Center
UID:e.2254.4708
SEQUENCE:3
DTSTAMP:20260424T204611Z
URL:https://chamber.saratoga.org/events/details/momix-07-21-2014-07-21-2014-4708
END:VEVENT

END:VCALENDAR
