BEGIN:VCALENDAR
VERSION:2.0
PRODID:-//ChamberMaster//Event Calendar 2.0//EN
METHOD:PUBLISH
X-PUBLISHED-TTL:P3D
REFRESH-INTERVAL:P3D
CALSCALE:GREGORIAN
BEGIN:VEVENT
DTSTART:20140920T120000Z
DTEND:20140921T190000Z
X-MICROSOFT-CDO-ALLDAYEVENT:FALSE
SUMMARY:Mohawk Hudson Bonsai Society Club Show - 09/20/2014
DESCRIPTION:Extensive collection of trees displayed that represent various bonsai styles47th Anniversary Show at the Saratoga Arts Center on Broadway. September 20th and 21st\, Saturday 10-5\,  Sunday 10-4. Bonsai exhibits and demonstrations. Bring in your bonsai and receive free advice on its care and styling. Bonsai  related items for sale.
X-ALT-DESC;FMTTYPE=text/html:<p>Extensive collection of trees displayed that represent various bonsai styles</p><p>47th Anniversary Show at the Saratoga Arts Center on Broadway. September 20th and 21st\, Saturday 10-5\,&nbsp\; Sunday 10-4. Bonsai exhibits and demonstrations. Bring in your bonsai and receive free advice on its care and styling. Bonsai&nbsp\; related items for sale.</p>
LOCATION:Saratoga Arts Center Gallery
UID:e.2254.2014
SEQUENCE:3
DTSTAMP:20260424T111038Z
URL:https://chamber.saratoga.org/events/details/mohawk-hudson-bonsai-society-club-show-09-20-2014-09-20-2014
END:VEVENT

END:VCALENDAR
