BEGIN:VCALENDAR
VERSION:2.0
PRODID:-//ChamberMaster//Event Calendar 2.0//EN
METHOD:PUBLISH
X-PUBLISHED-TTL:P3D
REFRESH-INTERVAL:P3D
CALSCALE:GREGORIAN
BEGIN:VEVENT
DTSTART:20160301T220000Z
DTEND:20160302T000000Z
X-MICROSOFT-CDO-ALLDAYEVENT:FALSE
SUMMARY:Mix & Mingle meet-up sponsored by The Saratoga Young Professionals Network
DESCRIPTION:The Saratoga Young Professionals Network will meet for their March mixer at Spa City Tap & Barrel for an evening of networking\, food\, and drink specials. Whether you are looking to establish new\, or reconnect with existing\, young professionals in and around Saratoga County\, this event is for you! Thank you to the Adirondack Trust Company for sponsoring the 2016 Saratoga Young Professionals Network.
X-ALT-DESC;FMTTYPE=text/html:The Saratoga Young Professionals Network will meet for their March mixer at Spa City Tap &amp\; Barrel for an evening of networking\, food\, and drink&nbsp\;specials. Whether you are looking to establish new\, or reconnect with existing\, young professionals in and around Saratoga County\, this event is for you! Thank you to the Adirondack Trust Company for sponsoring the 2016 Saratoga Young Professionals Network.
LOCATION:Spa City Tap & Barrel 13 Caroline Street Saratoga Springs
UID:e.2254.14859
SEQUENCE:3
DTSTAMP:20260422T004957Z
URL:https://chamber.saratoga.org/events/details/mix-mingle-meet-up-sponsored-by-the-saratoga-young-professionals-network-03-01-2016-14859
END:VEVENT

END:VCALENDAR
