BEGIN:VCALENDAR
VERSION:2.0
PRODID:-//ChamberMaster//Event Calendar 2.0//EN
METHOD:PUBLISH
X-PUBLISHED-TTL:P3D
REFRESH-INTERVAL:P3D
CALSCALE:GREGORIAN
BEGIN:VEVENT
DTSTART:20161111T223000Z
DTEND:20161112T030000Z
X-MICROSOFT-CDO-ALLDAYEVENT:FALSE
SUMMARY:miScience Café: Game On – The Science of Brewing
DESCRIPTION:Join miSci for the first in a series of 21+ events. George De Piro\, Chief Brewing Officer at Druthers\, will join miSci for a Science Caf  talk and Q&A. Enjoy drink samples from Druthers and Albany Distillery. Learn about brewing your own beer with Home Brew Table. Following the talk\, team up with new and old friends for some serious board gaming. Make sure to stop by the planetarium for a showing of "The Real Housewives of the Milky Way"\, a scandalous chronicle of the real stories behind the celebrities of the night sky.
X-ALT-DESC;FMTTYPE=text/html:Join miSci for the first in a series of 21+ events. George De Piro\, Chief Brewing Officer at Druthers\, will join miSci for a Science Caf&eacute\; talk and Q&amp\;A. Enjoy drink samples from Druthers and Albany Distillery. Learn about brewing your own beer with Home Brew Table. Following the talk\, team up with new and old friends for some serious board gaming. Make sure to stop by the planetarium for a showing of &quot\;The Real Housewives of the Milky Way&quot\;\, a scandalous chronicle of the real stories behind the celebrities of the night sky.
LOCATION:miSci 15 Nott Terrace Heights Schenectady\,NY 12308
UID:e.2254.20815
SEQUENCE:3
DTSTAMP:20260420T200732Z
URL:https://chamber.saratoga.org/events/details/miscience-caf&#233;-game-on-the-science-of-brewing-20815
END:VEVENT

END:VCALENDAR
