BEGIN:VCALENDAR
VERSION:2.0
PRODID:-//ChamberMaster//Event Calendar 2.0//EN
METHOD:PUBLISH
X-PUBLISHED-TTL:P3D
REFRESH-INTERVAL:P3D
CALSCALE:GREGORIAN
BEGIN:VEVENT
DTSTART:20151212T003000Z
DTEND:20151220T200000Z
X-MICROSOFT-CDO-ALLDAYEVENT:FALSE
SUMMARY:Miracle on 34th Street at HMT
DESCRIPTION:Adapted by Mountain Community Theater from the novel by Valentine Davies. Based upon the 20th Century Fox motion picture. Sometimes we all need a reminder of how wonderful it is to believe! Just when a weary world needs it most\, a white-whiskered\, kindly old man calling himself Kris Kringle appears to remind a little girl and her skeptical mother that the holidays are still a magical time of humor\, generosity\, and faith in the goodness of others. Join us for this uplifting yuletide classic! Weekends Dec 11-20.
X-ALT-DESC;FMTTYPE=text/html:Adapted by Mountain Community Theater from the novel by Valentine Davies. Based upon the 20th Century Fox motion picture. Sometimes we all need a reminder of how wonderful it is to believe! Just when a weary world needs it most\, a white-whiskered\, kindly old man calling himself Kris Kringle appears to remind a little girl and her skeptical mother that the holidays are still a magical time of humor\, generosity\, and faith in the goodness of others. Join us for this uplifting yuletide classic! Weekends Dec 11-20.
LOCATION:HMT at the Spa Little Theater\, Saratoga Spa State Park: http://homemadetheater.org/us/contact-us/
UID:e.2254.12816
SEQUENCE:3
DTSTAMP:20260422T103854Z
URL:https://chamber.saratoga.org/events/details/miracle-on-34th-street-at-hmt-12-11-2015-12816
END:VEVENT

END:VCALENDAR
