BEGIN:VCALENDAR
VERSION:2.0
PRODID:-//ChamberMaster//Event Calendar 2.0//EN
METHOD:PUBLISH
X-PUBLISHED-TTL:P3D
REFRESH-INTERVAL:P3D
CALSCALE:GREGORIAN
BEGIN:VEVENT
DTSTART:20160718T130000Z
DTEND:20160718T200000Z
X-MICROSOFT-CDO-ALLDAYEVENT:FALSE
SUMMARY:Miniature Basket with Linda Scherz Allen. #877-0318.
DESCRIPTION:The Serenity is a great basket to experience cotton cord. It is larger\, less intimidating than the other minis and a great size with many uses. A slotted wood base with reed spokes glued in will be ready for weaving. With three colors of cotton cord\, triple twine your bowl\, and complete with a folded rim. Linda will teach you her techniques for shaping\, pattern\, and tension as you weave. The Stargazer basket will be twined with two colors of 7 ply waxed linen. The sides are a combination of delica beads and waxed linen. Complete the tray with Linda's double face braid rim. Linda will teach you her techniques for shaping as you weave. Students will have a choice of colors. Linda will bring tools for students to use during class.\n\n\n\n \n\n\nNOTE:  Students will have the choice of either the Serenity or the Stargazer Baskets.
X-ALT-DESC;FMTTYPE=text/html:<pre>\n<span style="font-size:12pt"><span style="font-family:arial\,sans-serif"><span style="color:black">The Serenity is a great basket to experience cotton cord. It is larger\, less intimidating than the other minis and a great size with many uses. A slotted wood base with reed spokes glued in will be ready for weaving. With three colors of cotton cord\, triple twine your bowl\, and complete with a folded rim. Linda will teach you her techniques for shaping\, pattern\, and tension as you weave. The Stargazer basket will be twined with two colors of 7 ply waxed linen. The sides are a combination of delica beads and waxed linen. Complete the tray with Linda&#39\;s double face braid rim. Linda will teach you her techniques for shaping as you weave. Students will have a choice of colors. Linda will bring tools for students to use during class.</span></span></span></pre>\n\n<pre>\n\n&nbsp\;</pre>\n\n<pre>\n<strong><span style="font-size:12pt"><span style="font-family:arial\,sans-serif"><span style="color:black">NOTE:&nbsp\; Students will have the choice of either the Serenity or the Stargazer Baskets.</span></span></span></strong></pre>\n
LOCATION:Adirondack Folk School 51 Main Street Lake Luzerne\, NY 12846
UID:e.2254.15631
SEQUENCE:3
DTSTAMP:20260421T051212Z
URL:https://chamber.saratoga.org/events/details/miniature-basket-with-linda-scherz-allen-877-0318-07-18-2016-15631
END:VEVENT

END:VCALENDAR
