BEGIN:VCALENDAR
VERSION:2.0
PRODID:-//ChamberMaster//Event Calendar 2.0//EN
METHOD:PUBLISH
X-PUBLISHED-TTL:P3D
REFRESH-INTERVAL:P3D
CALSCALE:GREGORIAN
BEGIN:VEVENT
DTSTART:20150228T153000Z
DTEND:20150228T170000Z
X-MICROSOFT-CDO-ALLDAYEVENT:FALSE
SUMMARY:MINECRAFT. Learn Java with Fun Minecraft Activities
DESCRIPTION:Learn Java with Fun Minecraft Activities Your child will enjoy the game and learn new skills. This class teaches kids the basics to the game\, including mechanics and different block types. Students play the game in survival\, to learn crafting recipes and in creative\, to learn the mechanics behind things like red stone and pistons. The course does not require prior knowledge of the game or mechanics\, perfect for beginners who would like to learn the game. Age Group: 2nd to 6th Graders Class Size: Group Course: 15 Children Private Course: 1 Child Semi-Private of same level can form a class (3 kids max) Pricing: Group Course: $150 Private Course: $240 per Sessions: Classes begin Saturday\, Feb 28  to Mar 28 (Winter Session) Thursdays from 5:00 PM TO 6:00 PM\, Saturdays from 10:30 AM to 12 PM. Limited availability\, make a reservation today.
X-ALT-DESC;FMTTYPE=text/html:Learn Java with Fun Minecraft Activities Your child will enjoy the game and learn new skills. This class teaches kids the basics to the game\, including mechanics and different block types. Students play the game in survival\, to learn crafting recipes and in creative\, to learn the mechanics behind things like red&nbsp\;stone and pistons. The course does not require prior knowledge of the game or mechanics\, perfect for beginners who would like to learn the game. Age Group: 2nd to 6th Graders Class Size: Group Course: 15 Children Private Course: 1 Child Semi-Private of same level can form a class (3 kids max) Pricing: Group Course: $150 Private Course: $240 per Sessions: Classes begin Saturday\, Feb 28&nbsp\;&nbsp\;to Mar 28 (Winter Session) Thursdays from 5:00&nbsp\;PM TO 6:00&nbsp\;PM\, Saturdays from 10:30&nbsp\;AM&nbsp\;to 12 PM. Limited availability\, make a reservation today.
LOCATION:The Genius Plaza - 511 Moe Rd. Clifton Park\, NY 12065
UID:e.2254.5773
SEQUENCE:3
DTSTAMP:20260424T035810Z
URL:https://chamber.saratoga.org/events/details/minecraft-learn-java-with-fun-minecraft-activities-02-28-2015-5773
END:VEVENT

END:VCALENDAR
