BEGIN:VCALENDAR
VERSION:2.0
PRODID:-//ChamberMaster//Event Calendar 2.0//EN
METHOD:PUBLISH
X-PUBLISHED-TTL:P3D
REFRESH-INTERVAL:P3D
CALSCALE:GREGORIAN
BEGIN:VEVENT
DTSTART:20140815T180000Z
DTEND:20140815T220000Z
X-MICROSOFT-CDO-ALLDAYEVENT:FALSE
SUMMARY:Minecraft LAN Party! - 08/15/2014
DESCRIPTION:A Minecraft LAN party is where attendees play Minecraft on a single server so everyone can play in one virtual world!REVERUS SUMMER FUN FOR KIDS!Join us August 15th from 4 - 8 PM for our MInecraft LAN party. A Minecraft LAN party is where attendees play Minecraft on a single server so everyone can play in one virtual world! Recommended age for this event is 7-12.  Call today to reserve your spot.  Call 518-621-4501 to register or for more details
X-ALT-DESC;FMTTYPE=text/html:<p>A Minecraft LAN party is where attendees play Minecraft on a single server so everyone can play in one virtual world!</p><p>REVERUS SUMMER FUN FOR KIDS!</p><p>Join us August 15th from 4 - 8 PM for our MInecraft LAN party. A Minecraft LAN party is where attendees play Minecraft on a single server so everyone can play in one virtual world!&nbsp\;Recommended age for this event is 7-12. &nbsp\;Call today to reserve your spot. &nbsp\;Call 518-621-4501 to register or for more details</p>
LOCATION:Saratoga Academy
UID:e.2254.3513
SEQUENCE:3
DTSTAMP:20260424T135915Z
URL:https://chamber.saratoga.org/events/details/minecraft-lan-party-08-15-2014-08-15-2014-3513
END:VEVENT

END:VCALENDAR
