BEGIN:VCALENDAR
VERSION:2.0
PRODID:-//ChamberMaster//Event Calendar 2.0//EN
METHOD:PUBLISH
X-PUBLISHED-TTL:P3D
REFRESH-INTERVAL:P3D
CALSCALE:GREGORIAN
BEGIN:VEVENT
DTSTART:20150706T123000Z
DTEND:20150828T190000Z
X-MICROSOFT-CDO-ALLDAYEVENT:FALSE
SUMMARY:Minecraft Builder Summer Camp
DESCRIPTION:Minecraft Builders camp aims to bring campers from players to developers. Students will be placed in their game and programming levels. They will enjoy learning about the game and increase their skills\, including mechanics and different block types. They will play the game\, in survival\, to learn crafting recipes and in creative\, to learn the mechanics behind things like redstone and pistons. Incremental progress is made towards helping the campers learn to make their own mode. Prior knowledge of the game is helpful but not required. Age Group: 9 - 13 years old Class Size: 21 children Pricing: $ 120 Schedule: Monday to Friday: From 8:30 AM to 3:00 PM Sessions: Week 1: July 6th Week 2: July 13th Week 3: July 20th Week 4: July 27h Week 5: Aug 3rd Week 6: Aug 10th Week 7: Aug 17th Week 8: Aug 24th Morning Care ($20 per week) 7:30 AM 8:30 AM and After Care ($40 per week) 3:00 PM 6:00 PM Registration: http://thegeniusplaza.com/minecraft-builder-camp/ Phone: 518.280.9550
X-ALT-DESC;FMTTYPE=text/html:Minecraft Builders camp aims to bring campers from players to developers. Students will be placed in their game and programming levels. They will enjoy learning about the game and increase their skills\, including mechanics and different block types. They will play the game\, in survival\, to learn crafting recipes and in creative\, to learn the mechanics behind things like redstone and pistons. Incremental progress is made towards helping the campers learn to make their own mode. Prior knowledge of the game is helpful but not required. Age Group: 9 - 13 years old Class Size: 21 children Pricing: $ 120 Schedule: Monday to Friday: From 8:30 AM to 3:00 PM Sessions: Week 1: July 6th Week 2: July 13th Week 3: July 20th Week 4: July 27h Week 5: Aug 3rd Week 6: Aug 10th Week 7: Aug 17th Week 8: Aug 24th Morning Care ($20 per week) 7:30 AM 8:30 AM and After Care ($40 per week) 3:00 PM 6:00 PM Registration: http://thegeniusplaza.com/minecraft-builder-camp/ Phone: 518.280.9550
LOCATION:The Genius Plaza - 511 Moe Road\, Clifton Park\, NY 12065
UID:e.2254.7634
SEQUENCE:3
DTSTAMP:20260423T021859Z
URL:https://chamber.saratoga.org/events/details/minecraft-builder-summer-camp-07-06-2015-7634
END:VEVENT

END:VCALENDAR
