BEGIN:VCALENDAR
VERSION:2.0
PRODID:-//ChamberMaster//Event Calendar 2.0//EN
METHOD:PUBLISH
X-PUBLISHED-TTL:P3D
REFRESH-INTERVAL:P3D
CALSCALE:GREGORIAN
BEGIN:VEVENT
DTSTART:20161005T123000Z
DTEND:20161005T140000Z
X-MICROSOFT-CDO-ALLDAYEVENT:FALSE
SUMMARY:Millennials in Manufacturing
DESCRIPTION:The business community\, civic leaders\, students\, and educators are invited to celebrate Manufacturing Week at TEC-SMART on October 5\, 2016! Join us for an exciting discussion with young professionals making an impact in manufacturing. Register here: http://conta.cc/2ddWDEB
X-ALT-DESC;FMTTYPE=text/html:The business community\, civic leaders\, students\, and educators are invited to celebrate Manufacturing Week at TEC-SMART on October 5\, 2016! Join us for an exciting discussion with young professionals making an impact in manufacturing. Register here: http://conta.cc/2ddWDEB
LOCATION:HVCC's TEC-SMART\, 345 Hermes Rd\, Malta\, NY 12020
UID:e.2254.19679
SEQUENCE:3
DTSTAMP:20260420T214257Z
URL:https://chamber.saratoga.org/events/details/millennials-in-manufacturing-19679
END:VEVENT

END:VCALENDAR
