BEGIN:VCALENDAR
VERSION:2.0
PRODID:-//ChamberMaster//Event Calendar 2.0//EN
METHOD:PUBLISH
X-PUBLISHED-TTL:P3D
REFRESH-INTERVAL:P3D
CALSCALE:GREGORIAN
BEGIN:VEVENT
DTSTART:20150408T220000Z
DTEND:20150409T000000Z
X-MICROSOFT-CDO-ALLDAYEVENT:FALSE
SUMMARY:Middle East Movie Screening
DESCRIPTION:Middle East Movie Screening: "The Fading Valley\, West Bank\, 2013" The film bears witness to the lives of Palestinian farmers who are hidden from the eye in the fertile Jordan Valley. 6 p.m.-Davis Auditorium For more information call 518-580-5948
X-ALT-DESC;FMTTYPE=text/html:Middle East Movie Screening: &quot\;The Fading Valley\, West Bank\, 2013&quot\; The film bears witness to the lives of Palestinian farmers who are hidden from the eye in the fertile Jordan Valley. 6 p.m.-Davis Auditorium For more information call 518-580-5948
LOCATION:Skidmore College\, Davis Auditorium 815 N. Broadway Saratoga Springs\, NY 12866
UID:e.2254.7575
SEQUENCE:3
DTSTAMP:20260423T181726Z
URL:https://chamber.saratoga.org/events/details/middle-east-movie-screening-04-08-2015-7575
END:VEVENT

END:VCALENDAR
