BEGIN:VCALENDAR
VERSION:2.0
PRODID:-//ChamberMaster//Event Calendar 2.0//EN
METHOD:PUBLISH
X-PUBLISHED-TTL:P3D
REFRESH-INTERVAL:P3D
CALSCALE:GREGORIAN
BEGIN:VEVENT
DTSTART:20150627T000000Z
DTEND:20150627T000000Z
X-MICROSOFT-CDO-ALLDAYEVENT:FALSE
SUMMARY:Mezzo Soprano\, Jennifer Johnson Cano\, Performance at Massry Center for the Arts
DESCRIPTION:One of the country's most exciting mezzo sopranos\, Jennifer Johnson Cano\, will perform Songs of Longing and Desire in the Picotte Recital Hall at the Massry Center for the Arts in Albany on Friday\, June 26\, 2015 at 8:00pm. Cano will be accompanied by her husband\, Christopher Cano\, who is an extraordinary pianist. They often collaborate and work together. The musical team has created a special selection of songs that fit within the theme longing and desire. They will include works by Brahms\, Dove\, Barber\, Tchaikovsky and Rachmaninoff. Regarding her musical talent and abilities\, the New York Times extolled that emotion suffused every moment of her eloquent\, impassioned New York debut recital.
X-ALT-DESC;FMTTYPE=text/html:One of the country&#39\;s most exciting mezzo sopranos\, Jennifer Johnson Cano\, will perform Songs of Longing and Desire in the Picotte Recital Hall at the Massry Center for the Arts in Albany on Friday\, June 26\, 2015 at 8:00pm. Cano will be accompanied by her husband\, Christopher Cano\, who is an extraordinary pianist. They often collaborate and work together. The musical team has created a special selection of songs that fit within the theme longing and desire. They will include works by Brahms\, Dove\, Barber\, Tchaikovsky and Rachmaninoff. Regarding her musical talent and abilities\, the New York Times extolled that emotion suffused every moment of her eloquent\, impassioned New York debut recital.
LOCATION:Picotte Recital Hall - Massry Center for the Arts 1002 Madison Avenue\, Albany\, NY 12208
UID:e.2254.9612
SEQUENCE:3
DTSTAMP:20260423T073953Z
URL:https://chamber.saratoga.org/events/details/mezzo-soprano-jennifer-johnson-cano-performance-at-massry-center-for-the-arts-06-26-2015-9612
END:VEVENT

END:VCALENDAR
