BEGIN:VCALENDAR
VERSION:2.0
PRODID:-//ChamberMaster//Event Calendar 2.0//EN
METHOD:PUBLISH
X-PUBLISHED-TTL:P3D
REFRESH-INTERVAL:P3D
CALSCALE:GREGORIAN
BEGIN:VEVENT
DTSTART:20160807T230000Z
DTEND:20160808T030000Z
X-MICROSOFT-CDO-ALLDAYEVENT:FALSE
SUMMARY:Merry Jane Presents Snoop Dogg & Wiz Khalifa: The High Road Tour
DESCRIPTION:Merry Jane Presents Snoop Dogg & Wiz Khalifa: The High Road Tour featuring Kevin Gates\, Jhene Aiko\, Casey Veggies\, and DJ Drama
X-ALT-DESC;FMTTYPE=text/html:Merry Jane Presents Snoop Dogg &amp\; Wiz&nbsp\;Khalifa: The High Road Tour featuring Kevin Gates\, Jhene Aiko\, Casey Veggies\, and DJ Drama&nbsp\;&nbsp\;&nbsp\;&nbsp\;
LOCATION:Saratoga Performing Arts Center 108 Avenue of the Pines Saratoga Springs\, NY 12866
UID:e.2254.16434
SEQUENCE:3
DTSTAMP:20260421T004712Z
URL:https://chamber.saratoga.org/events/details/merry-jane-presents-snoop-dogg-wiz-khalifa-the-high-road-tour-08-07-2016-16434
END:VEVENT

END:VCALENDAR
