BEGIN:VCALENDAR
VERSION:2.0
PRODID:-//ChamberMaster//Event Calendar 2.0//EN
METHOD:PUBLISH
X-PUBLISHED-TTL:P3D
REFRESH-INTERVAL:P3D
CALSCALE:GREGORIAN
BEGIN:VEVENT
DTSTART:20160509T150000Z
DTEND:20160509T160000Z
X-MICROSOFT-CDO-ALLDAYEVENT:FALSE
SUMMARY:Mercury Transit Viewing
DESCRIPTION:Join us for this very special celestial event that only happens around thirteen times in a century. A Mercury transit takes place when the planet Mercury crosses the Sun's disc as it ventures directly between the Earth and the Sun. Mercury appears as a small black dot moving across the face of the Sun. With a telescope with filters\, you can actually see this happen! The last time this happened was in 2006\, the next one will occur in 2019 and after that\, not until 2032!! Our volunteer and amateur astronomer\, Howard Lester will have his telescope set up in Parking Lot #1 on Scout Road. Drop in and take a peek\, no registration necessary.
X-ALT-DESC;FMTTYPE=text/html:Join us for this very special celestial event that only happens around thirteen times in a century. A Mercury transit takes place when the planet Mercury crosses the Sun&#39\;s disc as it ventures directly between the Earth and the Sun. Mercury appears as a small black dot moving across the face of the Sun. With a telescope with filters\, you can actually see this happen! The last time this happened was in 2006\, the next one will occur in 2019 and after that\, not until 2032!! Our volunteer and amateur astronomer\, Howard Lester will have his telescope set up in Parking Lot #1 on Scout Road. Drop in and take a peek\, no registration necessary.
LOCATION:Parking Lot 1 Scout Road Gansevoort\, NY 12831
UID:e.2254.16660
SEQUENCE:3
DTSTAMP:20260421T180647Z
URL:https://chamber.saratoga.org/events/details/mercury-transit-viewing-05-09-2016-16660
END:VEVENT

END:VCALENDAR
