BEGIN:VCALENDAR
VERSION:2.0
PRODID:-//ChamberMaster//Event Calendar 2.0//EN
METHOD:PUBLISH
X-PUBLISHED-TTL:P3D
REFRESH-INTERVAL:P3D
CALSCALE:GREGORIAN
BEGIN:VEVENT
DTSTART:20150911T223000Z
DTEND:20150912T003000Z
X-MICROSOFT-CDO-ALLDAYEVENT:FALSE
SUMMARY:Member Photo Exhibition
DESCRIPTION:The Member Exhibit will coincide with Exposure Saratoga's Second Anniversary on Friday\, September 11 2015 from 6:30 to 8:30. The exhibit will be the first of the Open House activities for the new year. It will remain hung through the weekend with open hours from 12:00 noon to 6:00 PM. \n\nAfter that\, Contributors may elect to leave their photos on the walls to be on display for future classes\, studio sessions\, and Open Houses\, or they may remove them (see removal times below).\n\nThis is an open entry exhibition - no limit to subject\, theme\, editing\, treatment\, etc. As long as the image began as a "light drawing" it is eligible - digital\, film\, Lytro\, camera obscura\, Ray-o-graph\, etc!\n\n\n\nSee more details at ExposureSaratoga.com
X-ALT-DESC;FMTTYPE=text/html:<p>The Member Exhibit will coincide with Exposure Saratoga&rsquo\;s Second Anniversary on Friday\, September 11 2015 from 6:30 to 8:30. The exhibit will be the first of the Open House activities for the new year. It will&nbsp\;remain hung through the weekend with open hours from 12:00 noon to 6:00 PM.&nbsp\;</p>\n\n<p>After that\, Contributors may elect to leave their photos on the walls to be on display for future classes\, studio sessions\, and Open Houses\, or they may&nbsp\;remove them (see removal times below).</p>\n\n<p>This is an&nbsp\;<em>open entry exhibition</em>&nbsp\;- no limit to subject\, theme\, editing\, treatment\, etc. As long as the image began as a &quot\;light drawing&quot\; it is eligible - digital\, film\, Lytro\, camera obscura\, Ray-o-graph\, etc!<br />\n<br />\nSee more details at <a href="http://www.exposuresaratoga.com/member-exhibit.html">ExposureSaratoga.com</a></p>\n
LOCATION:Exposure Saratoga 67 Davidson Dr. (Above KC Framing and Fabrics) Saratoga Springs\, NY 12866
UID:e.2254.10106
SEQUENCE:3
DTSTAMP:20260423T005450Z
URL:https://chamber.saratoga.org/events/details/member-photo-exhibition-09-11-2015-10106
END:VEVENT

END:VCALENDAR
