BEGIN:VCALENDAR
VERSION:2.0
PRODID:-//ChamberMaster//Event Calendar 2.0//EN
METHOD:PUBLISH
X-PUBLISHED-TTL:P3D
REFRESH-INTERVAL:P3D
CALSCALE:GREGORIAN
BEGIN:VEVENT
DTSTART:20141120T220000Z
DTEND:20141120T233000Z
X-MICROSOFT-CDO-ALLDAYEVENT:FALSE
SUMMARY:Member Mixer
DESCRIPTION:Mix and Mingle with your fellow Chamber membersThe Saratoga County Chamber will host a member mixer at the newly opened Kings Tavern. Join you fellow members for an evening of networking\, drink specials and hors d'oeuvres while building valuable relationships while moving forward toward 2015. This event will prove to be very popular and space is limited\, so be sure to register early!
X-ALT-DESC;FMTTYPE=text/html:<p>Mix and Mingle with your fellow Chamber members</p><p>The Saratoga County Chamber will host a member mixer at the newly opened Kings Tavern. Join you fellow members for an evening of networking\, drink specials and hors d'oeuvres while building valuable relationships while moving forward toward 2015. This event will prove to be very popular and space is limited\, so be sure to register early!</p>
LOCATION:Kings Tavern
UID:e.2254.428
SEQUENCE:3
DTSTAMP:20260424T093259Z
URL:https://chamber.saratoga.org/events/details/member-mixer-11-20-2014-428
END:VEVENT

END:VCALENDAR
