BEGIN:VCALENDAR
VERSION:2.0
PRODID:-//ChamberMaster//Event Calendar 2.0//EN
METHOD:PUBLISH
X-PUBLISHED-TTL:P3D
REFRESH-INTERVAL:P3D
CALSCALE:GREGORIAN
BEGIN:VEVENT
DTSTART:20160913T170000Z
DTEND:20160913T190000Z
X-MICROSOFT-CDO-ALLDAYEVENT:FALSE
SUMMARY:Medicare 101 Presented by MVP
DESCRIPTION:Free and open to the public.\n\nDo you have questions about medicare? Stop by for free information.
X-ALT-DESC;FMTTYPE=text/html:<p><span style="color: rgb(67\, 67\, 67)\; font-family: tahoma\,sans-serif\;">Free and open to the public.</span></p>\n\n<div><span style="color: rgb(67\, 67\, 67)\; font-family: tahoma\,sans-serif\;">Do you have questions about medicare? Stop by for free information.</span></div>\n\n<div>&nbsp\;</div>\n
LOCATION:Adult & Senior Center of Saratoga 5 Williams Street\, Saratoga Springs\, NY 12866
UID:e.2254.17309
SEQUENCE:3
DTSTAMP:20260421T004026Z
URL:https://chamber.saratoga.org/events/details/medicare-101-presented-by-mvp-09-13-2016-17309
END:VEVENT

END:VCALENDAR
