BEGIN:VCALENDAR
VERSION:2.0
PRODID:-//ChamberMaster//Event Calendar 2.0//EN
METHOD:PUBLISH
X-PUBLISHED-TTL:P3D
REFRESH-INTERVAL:P3D
CALSCALE:GREGORIAN
BEGIN:VEVENT
DTSTART:20151102T233000Z
DTEND:20151103T003000Z
X-MICROSOFT-CDO-ALLDAYEVENT:FALSE
SUMMARY:Mechanicville District Public Library to Host Social Security Workshop
DESCRIPTION:FOR IMMEDIATE RELEASE\n\nMechanicville District Public Library to Host Social Security Workshop \n\n \nLATHAM\, N.Y.\, October 23\, 2015 -  The Mechanicville District Public Library located at 190 North Main St\, Mechanicville\, NY\, will be hosting a complimentary workshop called\, "Making the Most of Social Security" on Monday\, November 2nd at 6:30 PM. The event is designed to help pre-retirees ages 50-70\, learn how to maximize their Social Security benefits prior to receiving them. Attendees will also learn valuable claiming strategies for individuals\, divorcees\, and married couples\; including how part/full-time employment impacts benefits.\n\n\n\nThe event is being presented by Retirement Solutions\, an office of MetLife. Seating is limited. Please RSVP to John Kalil at 518-220-3076. Light refreshments will be served.
X-ALT-DESC;FMTTYPE=text/html:<strong><span style="font-size: 20pt\;"><span style="font-family: calibri\,sans-serif\;">FOR IMMEDIATE RELEASE</span></span></strong><br />\n<span style="font-size: 14pt\;"><span style="font-family: calibri\,sans-serif\;">Mechanicville District Public Library to Host Social Security Workshop </span></span><br />\n&nbsp\;\n<p><span style="font-family: calibri\;"><strong><span style="font-size: 12pt\;">LATHAM\, N.Y.\, October 23\, 2015</span></strong></span><span style="font-size: 12pt\;"> -&nbsp\; <span style="font-size: 14px\;"><span style="font-family: arial\,helvetica\,sans-serif\;">The Mechanicville District Public Library located at 190 North Main St\, Mechanicville\, NY</span></span></span><span style="font-size: 14px\;"><span style="font-family: arial\,helvetica\,sans-serif\;">\, will be hosting a complimentary workshop called\, <strong><em>&ldquo\;Making the Most of Social Security&rdquo\; </em></strong>on Monday\, November 2nd at 6:30 PM. The event is designed to help pre-retirees ages 50-70\, learn how to maximize their Social Security benefits prior to receiving them. Attendees will also learn valuable claiming strategies for individuals\, divorcees\, and married couples\; including how part/full-time employment impacts benefits.<br />\n<br />\nThe event is being presented by Retirement Solutions\, an office of MetLife. Seating is limited. Please RSVP to John Kalil at 518-220-3076. Light refreshments will be served.</span></span><br />\n&nbsp\;</p>\n
LOCATION:The Mechanicville District Public Library
UID:e.2254.12770
SEQUENCE:3
DTSTAMP:20260422T151848Z
URL:https://chamber.saratoga.org/events/details/mechanicville-district-public-library-to-host-social-security-workshop-11-02-2015-12770
END:VEVENT

END:VCALENDAR
