BEGIN:VCALENDAR
VERSION:2.0
PRODID:-//ChamberMaster//Event Calendar 2.0//EN
METHOD:PUBLISH
X-PUBLISHED-TTL:P3D
REFRESH-INTERVAL:P3D
CALSCALE:GREGORIAN
BEGIN:VEVENT
DTSTART:20170211T180000Z
DTEND:20170211T200000Z
X-MICROSOFT-CDO-ALLDAYEVENT:FALSE
SUMMARY:Matinee at the Museum
DESCRIPTION:Bring your love to see The Love Bug at the Saratoga Automobile Museum. \n\nPre-register: lindsey.collins@saratogaautomuseum.org
X-ALT-DESC;FMTTYPE=text/html:Bring your love to see&nbsp\;The Love Bug&nbsp\;at the Saratoga Automobile Museum.&nbsp\;<br />\nPre-register:&nbsp\;lindsey.collins@saratogaautomuseum.org
LOCATION:Saratoga Automobile Museum 110 Ave. of the Pines\, Saratoga Springs\, NY 12866
UID:e.2254.21943
SEQUENCE:3
DTSTAMP:20260420T104040Z
URL:https://chamber.saratoga.org/events/details/matinee-at-the-museum-21943
END:VEVENT

END:VCALENDAR
