BEGIN:VCALENDAR
VERSION:2.0
PRODID:-//ChamberMaster//Event Calendar 2.0//EN
METHOD:PUBLISH
X-PUBLISHED-TTL:P3D
REFRESH-INTERVAL:P3D
CALSCALE:GREGORIAN
BEGIN:VEVENT
DTSTART:20150327T160000Z
DTEND:20150327T170000Z
X-MICROSOFT-CDO-ALLDAYEVENT:FALSE
SUMMARY:March 27th Lunch and Learn - Reverus
DESCRIPTION:Announcing: Brown's Brewing & Backup Lunch with Seagate\n\n\n\nHello Friends of Reverus\,\n\n\n\nJoin us March 27th for our Brown's Brewing & Backup Lunch with EVault for a comprehensive discussion about Disaster Recovery and Backup plans for your business.\n\n\n\nWhy is this important to me?\n\nDid you know that more than 1 in 4 business will experience a disaster over the course of a year and that 43% of those without a disaster recovery (DR) plan never reopen?\n\n\n\nWhen thinking about your DR plan\, ask the following questions:\n\n\n	Do you have a technology plan?\n	Have you tested your DR Plan?\n	Would you like to adequately assess the readiness of your systems/plan?\n\nIt's not just hurricanes\, and it's not all about Snowmaggdeon 2015. With the ever-present risk of technology troubles like electrical outages\, server failures\, fire\, and communications service breakdowns it's easy to see that disaster recovery and business continuity must be a central part of your organization's planning.\n\n\n\nAre you prepared?\n\n\n\nTopics will include the following:\n\n\n	Disaster Recovery Planning\, Implementing\, and Testing\n	Latest innovations in cost-effective Cloud Based DR Solutions that can have your business up-and-running in minutes rather than hours in the event of a server failure or complete disaster\n	Discussion of traditional DR Solutions such as colocation facilities and alternate sites\n\nJoin us for lunch and an open discussion where we can help answer your questions and identify vulnerabilities or opportunities for keeping your business safe and sound!\n\n\n\nRegister Online:\n\nhttp://www.reverus.com/evault/
X-ALT-DESC;FMTTYPE=text/html:<strong><span style="font-family:arial\,sans-serif"><span style="font-size:13.5pt">Announcing: Brown&rsquo\;s Brewing &amp\; Backup Lunch with Seagate</span></span></strong><br />\n<br />\n<span style="font-family:arial\,sans-serif"><span style="font-size:13.5pt">Hello Friends of Reverus\,</span></span><br />\n<br />\n<span style="font-family:arial\,sans-serif"><span style="font-size:13.5pt">Join us March 27th for our&nbsp\;Brown&rsquo\;s Brewing &amp\; Backup Lunch with EVault for a comprehensive discussion about Disaster Recovery and Backup plans for your business.</span></span><br />\n<br />\n<strong><span style="font-family:arial\,sans-serif"><span style="font-size:13.5pt">Why is this important to me?</span></span></strong><br />\n<span style="font-family:arial\,sans-serif"><span style="font-size:13.5pt">Did you know that&nbsp\;more than 1 in 4 business will experience a disaster over the course of a year and that 43% of those without a disaster recovery (DR)&nbsp\;plan never reopen?</span></span><br />\n<br />\n<strong><span style="font-family:arial\,sans-serif"><span style="font-size:13.5pt">When thinking about your DR plan\, ask the following questions:</span></span></strong>\n\n<ul>\n	<li><span style="font-family:arial\,sans-serif"><span style="font-size:13.5pt">Do you have a technology plan?</span></span></li>\n	<li><span style="font-family:arial\,sans-serif"><span style="font-size:13.5pt">Have you tested your DR Plan?</span></span></li>\n	<li><span style="font-family:arial\,sans-serif"><span style="font-size:13.5pt">Would you like to adequately assess the readiness of your systems/plan?</span></span></li>\n</ul>\n<span style="font-family:arial\,sans-serif"><span style="font-size:13.5pt">It&rsquo\;s not just hurricanes\, and it&rsquo\;s not all about Snowmaggdeon 2015. With the ever-present risk of technology troubles&nbsp\;like electrical outages\, server failures\, fire\, and communications service breakdowns&nbsp\;it&rsquo\;s easy to see that disaster recovery and business continuity must be a central part of your organization&rsquo\;s&nbsp\;planning.</span></span><br />\n<br />\n<strong><span style="font-family:arial\,sans-serif"><span style="font-size:13.5pt">Are you prepared?</span></span></strong><br />\n<br />\n<span style="font-family:arial\,sans-serif"><span style="font-size:13.5pt">Topics will include the following:</span></span>\n\n<ul>\n	<li><span style="font-family:arial\,sans-serif"><span style="font-size:13.5pt">Disaster Recovery Planning\, Implementing\, and Testing</span></span></li>\n	<li><span style="font-family:arial\,sans-serif"><span style="font-size:13.5pt">Latest innovations in cost-effective Cloud Based DR Solutions that can have your business up-and-running in minutes rather than hours in the event of a server failure or complete disaster</span></span></li>\n	<li><span style="font-family:arial\,sans-serif"><span style="font-size:13.5pt">Discussion&nbsp\;of traditional DR Solutions such as colocation facilities and alternate sites</span></span></li>\n</ul>\n<span style="font-family:arial\,sans-serif"><span style="font-size:13.5pt">Join us for lunch and an open discussion where we can help answer your questions and identify vulnerabilities or opportunities for keeping your business safe and sound!</span></span><br />\n<br />\n<span style="font-family:arial\,sans-serif"><span style="font-size:13.5pt">Register Online:</span></span><br />\n<span style="font-family:arial\,sans-serif"><span style="font-size:13.5pt"><a href="http://www.reverus.com/evault/">http://www.reverus.com/evault/</a></span></span>
LOCATION:417 River St\, Troy\, NY 12180
UID:e.2254.6671
SEQUENCE:3
DTSTAMP:20260423T225840Z
URL:https://chamber.saratoga.org/events/details/march-27th-lunch-and-learn-reverus-03-27-2015-6671
END:VEVENT

END:VCALENDAR
