BEGIN:VCALENDAR
VERSION:2.0
PRODID:-//ChamberMaster//Event Calendar 2.0//EN
METHOD:PUBLISH
X-PUBLISHED-TTL:P3D
REFRESH-INTERVAL:P3D
CALSCALE:GREGORIAN
BEGIN:VEVENT
DTSTART:20150912T123000Z
DTEND:20150912T140000Z
X-MICROSOFT-CDO-ALLDAYEVENT:FALSE
SUMMARY:Malta5k
DESCRIPTION:The 6th Annual Malta Business & Professional Association 5k will be held Saturday\, Sept. 12\, 2015 starting at 8:30 a.m. Run through the Saratoga Technology & Energy Park and the Luther Forest Technology Campus\, get a firsthand look at the GLOBALFOUNDRIES chip manufacturing plant that are the focus of so much attention in Malta\, NY in the heart of Saratoga County. Proceeds generated by the Malta 5k are donated to the Saratoga County Rural Preservation Company in support of their work with veterans in our community\, to the Malta Ambulance Corps\, the Round Lake Fire Department\, and the Malta Ridge Fire Department. Pre-registration for the Malta 5k is $25 and includes an event shirt\, plenty of food\, a swag bag and more. Day of the race costs $30.
X-ALT-DESC;FMTTYPE=text/html:The 6th Annual Malta Business &amp\; Professional Association 5k will be held Saturday\, Sept. 12\, 2015 starting at 8:30 a.m. Run through the Saratoga Technology &amp\; Energy Park and the Luther Forest Technology Campus\, get a firsthand look at the GLOBALFOUNDRIES chip manufacturing plant that are the focus of so much attention in Malta\, NY in the heart of Saratoga County. Proceeds generated by the Malta 5k are donated to the Saratoga County Rural Preservation Company in support of their work with veterans in our community\, to the Malta Ambulance Corps\, the Round Lake Fire Department\, and the Malta Ridge Fire Department. Pre-registration for the Malta 5k is $25 and includes an event shirt\, plenty of food\, a swag bag and more. Day of the race costs $30.
LOCATION:HVCC TEC SMART 345 Hermes Road Malta\, NY 12020
UID:e.2254.7644
SEQUENCE:3
DTSTAMP:20260423T003502Z
URL:https://chamber.saratoga.org/events/details/malta5k-09-12-2015-7644
END:VEVENT

END:VCALENDAR
