BEGIN:VCALENDAR
VERSION:2.0
PRODID:-//ChamberMaster//Event Calendar 2.0//EN
METHOD:PUBLISH
X-PUBLISHED-TTL:P3D
REFRESH-INTERVAL:P3D
CALSCALE:GREGORIAN
BEGIN:VEVENT
DTSTART:20161119T140000Z
DTEND:20161119T210000Z
X-MICROSOFT-CDO-ALLDAYEVENT:FALSE
SUMMARY:Making Winter Mukluks/Moccasins with Brian Manning. #985-1119.
DESCRIPTION:Get ready for the warmest\, lightest\, coziest pair of winter footwear you have ever worn. Handcrafted by you! There is simply no more satisfying way to travel in the winter than with a pair of moccasins you have made yourself! Some knowledge of sewing is helpful but not required. Materials provided will include enough deerskin for the moccasin lowers\, plus extra scraps to use as a repair kit\, canvas uppers\, decorative ribbon and light cotton webbing for wrap-around ties. Needles\, thread\, instruction book and scissors will be provided.\n\n\n\n \n\n\nNOTE:  Students will need to bring a set of commercially made wool felt pack boot liners\, one pair of wool socks and one set of thick felt insoles.
X-ALT-DESC;FMTTYPE=text/html:<pre>\n<span style="color:black"><span style="font-family:arial\,sans-serif"><span style="font-size:12.0pt">Get ready for the warmest\, lightest\, coziest pair of winter footwear you have ever worn. Handcrafted by you! There is simply no more satisfying way to travel in the winter than with a pair of moccasins you have made yourself! Some knowledge of sewing is helpful but not required. Materials provided will include enough deerskin for the moccasin lowers\, plus extra scraps to use as a repair kit\, canvas uppers\, decorative ribbon and light cotton webbing for wrap-around ties. Needles\, thread\, instruction book and scissors will be provided.</span></span></span></pre>\n\n<pre>\n\n&nbsp\;</pre>\n\n<pre>\n<strong><span style="color:black"><span style="font-family:\n"><span style="font-size:12.0pt">NOTE:&nbsp\; Students will need to bring a set of commercially made wool felt pack boot liners\, one pair of wool socks and one set of thick felt insoles.</span></span></span></strong></pre>\n
LOCATION:Adirondack Folk School 51 Main Street Lake Luzerne\, NY 12846
UID:e.2254.19479
SEQUENCE:3
DTSTAMP:20260420T201901Z
URL:https://chamber.saratoga.org/events/details/making-winter-mukluks-moccasins-with-brian-manning-985-1119-19479
END:VEVENT

END:VCALENDAR
