BEGIN:VCALENDAR
VERSION:2.0
PRODID:-//ChamberMaster//Event Calendar 2.0//EN
METHOD:PUBLISH
X-PUBLISHED-TTL:P3D
REFRESH-INTERVAL:P3D
CALSCALE:GREGORIAN
BEGIN:VEVENT
DTSTART:20160813T130000Z
DTEND:20160813T200000Z
X-MICROSOFT-CDO-ALLDAYEVENT:FALSE
SUMMARY:Making Hammer and Axe Handles with David Salvetti. #897-0813.
DESCRIPTION:The Adirondacks were built with simple tools such as traditional hammers and axes. The hammerhead and axe head were the trade of the local blacksmith but they needed handles to be useful. Our early ancestors created all their tool handles themselves since there were no hardware stores - they just hiked into the woods and found their materials! So come fashion handles just like the early settlers did.
X-ALT-DESC;FMTTYPE=text/html:<pre>\n<span style="font-size:12pt"><span style="font-family:arial\,sans-serif"><span style="color:black">The Adirondacks were built with simple tools such as traditional hammers and axes. The hammerhead and axe head were the trade of the local blacksmith but they needed handles to be useful. Our early ancestors created all their tool handles themselves since there were no hardware stores - they just hiked into the woods and found their materials! So come fashion handles just like the early settlers did.</span></span></span></pre>\n
LOCATION:Adirondack Folk School 51 Main Street Lake Luzerne\, NY 12846
UID:e.2254.16110
SEQUENCE:3
DTSTAMP:20260421T020525Z
URL:https://chamber.saratoga.org/events/details/making-hammer-and-axe-handles-with-david-salvetti-897-0813-08-13-2016-16110
END:VEVENT

END:VCALENDAR
