BEGIN:VCALENDAR
VERSION:2.0
PRODID:-//ChamberMaster//Event Calendar 2.0//EN
METHOD:PUBLISH
X-PUBLISHED-TTL:P3D
REFRESH-INTERVAL:P3D
CALSCALE:GREGORIAN
BEGIN:VEVENT
DTSTART:20151210T220000Z
DTEND:20151211T003000Z
X-MICROSOFT-CDO-ALLDAYEVENT:FALSE
SUMMARY:Making Connections:Autism Program
DESCRIPTION:This FREE program is offered to children on the autism spectrum and their families - siblings welcome! Meet other families in the area and talk to specialists while you enjoy a fun night out with your family! We'll be doing winter crafts\, and the community room will be open with a winter themed sensory table!
X-ALT-DESC;FMTTYPE=text/html:This FREE program is offered to children on the autism spectrum and their families - siblings welcome! Meet other families in the area and talk to specialists while you enjoy a fun night out with your family! We&#39\;ll be doing winter crafts\, and the community room will be open with a winter themed sensory table!
LOCATION:The Children's Museum at Saratoga 69 Caroline Street Saratoga Springs\, NY 12866
UID:e.2254.13159
SEQUENCE:3
DTSTAMP:20260422T081217Z
URL:https://chamber.saratoga.org/events/details/making-connections-autism-program-12-10-2015-13159
END:VEVENT

END:VCALENDAR
