BEGIN:VCALENDAR
VERSION:2.0
PRODID:-//ChamberMaster//Event Calendar 2.0//EN
METHOD:PUBLISH
X-PUBLISHED-TTL:P3D
REFRESH-INTERVAL:P3D
CALSCALE:GREGORIAN
BEGIN:VEVENT
DTSTART:20150528T213000Z
DTEND:20150529T010000Z
X-MICROSOFT-CDO-ALLDAYEVENT:FALSE
SUMMARY:Makeup & Martinis - Contouring 101 Spa Party at Complexions Spa
DESCRIPTION:Complexions Spa will be hosting Makeup and Martinis: Contouring 101 Spa Party. Learn all you need to know about the hottest makeup look right now contouring.  Experts will provide instruction on how to frame your face and create killer cheekbones through the strategic application of makeup. The evening will begin with a brief demo of pre-makeup skin prep for all skin types. At individual workstations\, estheticians will provide step-by-step instructions to help master the many dimensions of highlighting and lowlighting your strongest facial features for the perfect contouring application. Space is limited\, so book your spot today with a $25 non-refundable deposit. Attendees will receive a 15% discount off any purchase made that evening. Complexions Spa for Beauty & Wellness has been helping their clients achieve stunning results with personalized beauty tips more than 26 years. From makeup trends to glowing skin\, the professional estheticians at Complexions Spa provide services\, treatments\, techniques\, and tips that make looking and feeling your best possible.
X-ALT-DESC;FMTTYPE=text/html:Complexions Spa will be hosting Makeup and Martinis: Contouring 101 Spa Party. Learn all you need to know about the hottest makeup look right now contouring.&nbsp\; Experts will provide instruction on how to frame your face and create killer cheekbones through the strategic application of makeup. The evening will begin with a brief demo of pre-makeup skin prep for all skin types. At individual workstations\, estheticians will provide step-by-step instructions to help master the many dimensions of highlighting and lowlighting your strongest facial features for the perfect contouring application. Space is limited\, so book your spot today with a $25 non-refundable deposit. Attendees will receive a 15% discount off any purchase made that evening. Complexions Spa for Beauty &amp\; Wellness has been helping their clients achieve stunning results with personalized beauty tips more than 26 years. From makeup trends to glowing skin\, the professional estheticians at Complexions Spa provide services\, treatments\, techniques\, and tips that make looking and feeling your best possible.
LOCATION:Complexions Spa for Beauty and Wellness 268 Broadway\, Saratoga Springs\, NY
UID:e.2254.8335
SEQUENCE:3
DTSTAMP:20260423T170610Z
URL:https://chamber.saratoga.org/events/details/makeup-martinis-contouring-101-spa-party-at-complexions-spa-05-28-2015-8335
END:VEVENT

END:VCALENDAR
