BEGIN:VCALENDAR
VERSION:2.0
PRODID:-//ChamberMaster//Event Calendar 2.0//EN
METHOD:PUBLISH
X-PUBLISHED-TTL:P3D
REFRESH-INTERVAL:P3D
CALSCALE:GREGORIAN
BEGIN:VEVENT
DTSTART:20211201T180000Z
DTEND:20211201T190000Z
X-MICROSOFT-CDO-ALLDAYEVENT:FALSE
SUMMARY:Madira Wine and Liquor Ribbon Cutting
DESCRIPTION:Madira Wine and Spirits is now open in Clifton Park!  Celebrate their ribbon cutting with the Saratoga County Chamber!
X-ALT-DESC;FMTTYPE=text/html:Madira Wine and Spirits is now open in Clifton Park!&nbsp\; Celebrate their ribbon cutting with the Saratoga County Chamber!&nbsp\;<br />\n&nbsp\;
LOCATION:Madira Wine and Spirits 643 Grooms Road\, Suite 1 Clifton Park \, NY 12065
UID:e.2254.41739
SEQUENCE:3
DTSTAMP:20260421T131624Z
URL:https://chamber.saratoga.org/events/details/madira-wine-and-liquor-ribbon-cutting-41739
END:VEVENT

END:VCALENDAR
