BEGIN:VCALENDAR
VERSION:2.0
PRODID:-//ChamberMaster//Event Calendar 2.0//EN
METHOD:PUBLISH
X-PUBLISHED-TTL:P3D
REFRESH-INTERVAL:P3D
CALSCALE:GREGORIAN
BEGIN:VEVENT
DTSTART:20150214T223000Z
DTEND:20150215T020000Z
X-MICROSOFT-CDO-ALLDAYEVENT:FALSE
SUMMARY:Love Bites
DESCRIPTION:Single on Valentine's Day? Take control and fear no more! Introducing? LOVE Bites! A Singles Awareness Day Celebration with Cocktails\, Hors d' oeuvres and Laughs! $25 includes everything and a drink ticket! Take part in some aggression relief therapy and visit our life-sized Voo Doo Doll and pin a HEX on your EX. Visit our Dissing Booth and get it all out! Shop our- I'd Rather Be in Debt than in Love- vendors.
X-ALT-DESC;FMTTYPE=text/html:Single on Valentine&#39\;s Day? Take control and fear no more! Introducing? LOVE Bites! A Singles Awareness Day Celebration with Cocktails\, Hors d&#39\; oeuvres and Laughs! $25 includes everything and a drink ticket! Take part in some aggression relief therapy and visit our life-sized Voo Doo Doll and pin a HEX on your EX. Visit our Dissing Booth and get it all out! Shop our- I&#39\;d Rather Be in Debt than in Love- vendors.
LOCATION:Proctors
UID:e.2254.4987
SEQUENCE:3
DTSTAMP:20260424T003402Z
URL:https://chamber.saratoga.org/events/details/love-bites-02-14-2015-4987
END:VEVENT

END:VCALENDAR
