BEGIN:VCALENDAR
VERSION:2.0
PRODID:-//ChamberMaster//Event Calendar 2.0//EN
METHOD:PUBLISH
X-PUBLISHED-TTL:P3D
REFRESH-INTERVAL:P3D
CALSCALE:GREGORIAN
BEGIN:VEVENT
DTSTART:20140917T200000Z
DTEND:20140917T230000Z
X-MICROSOFT-CDO-ALLDAYEVENT:FALSE
SUMMARY:Lord & Taylor VIP Celebration - 09/17/2014
DESCRIPTION:Preview of new Lord   Taylor at Crossgates Mall and enjoy a red carpet night with great shopping\, drinks\, food and giving back.  Tickets are $25 a person and proceeds benefit the Ronald McDonald House Charities of the Capital Region and the American Red Cross of Northeastern New York.  To purchase tickets\, please visit: http://rmhcofalbany.kintera.org.ltTickets will not be available at the door the night of the event.
X-ALT-DESC;FMTTYPE=text/html:<p>Preview of new Lord & Taylor at Crossgates Mall.</p><p>Be one of the first to experience the new Lord &amp\; Taylor at Crossgates Mall and enjoy a red carpet night with great shopping\, drinks\, food and giving back. &nbsp\;Tickets are $25 a person and proceeds benefit the Ronald McDonald House Charities of the Capital Region and the American Red Cross of Northeastern New York. &nbsp\;</p><p>To purchase tickets\, please visit: http://rmhcofalbany.kintera.org.lt</p><p>Tickets will not be available at the door the night of the event.&nbsp\;</p>
LOCATION:Crossgates Mall
UID:e.2254.3577
SEQUENCE:3
DTSTAMP:20260424T142258Z
URL:https://chamber.saratoga.org/events/details/lord-taylor-vip-celebration-09-17-2014-09-17-2014-3577
END:VEVENT

END:VCALENDAR
