BEGIN:VCALENDAR
VERSION:2.0
PRODID:-//ChamberMaster//Event Calendar 2.0//EN
METHOD:PUBLISH
X-PUBLISHED-TTL:P3D
REFRESH-INTERVAL:P3D
CALSCALE:GREGORIAN
BEGIN:VEVENT
DTSTART:20160221T160000Z
DTEND:20160221T200000Z
X-MICROSOFT-CDO-ALLDAYEVENT:FALSE
SUMMARY:Longfellows Wedding Show
DESCRIPTION:Engaged couples are cordially invited to attend the Longfellows Wedding Show\, Sunday February 21\, 11am - 3pm. Meet with a large variety of wedding professionals who will offer their expertise and advice in planning the day of your dreams! Complimentary hors d'oeuvres\, door prizes and more. Admission is free. Longfellows Restaurant\, 500 Union Avenue\, Saratoga Springs\, celebrating 15 years of hosting wedding shows. 11am - 3pm. Call 406-0505 to register.
X-ALT-DESC;FMTTYPE=text/html:Engaged couples are cordially invited to attend the Longfellows Wedding Show\, Sunday February 21\, 11am - 3pm. Meet with a large variety of wedding professionals who will offer their expertise and advice in planning the day of your dreams! Complimentary hors d&#39\;oeuvres\, door prizes and more. Admission is free. Longfellows Restaurant\, 500 Union Avenue\, Saratoga Springs\, celebrating 15 years of hosting wedding shows. 11am - 3pm. Call 406-0505 to register.
LOCATION:Longfellows Restaurant
UID:e.2254.4918
SEQUENCE:3
DTSTAMP:20260422T022324Z
URL:https://chamber.saratoga.org/events/details/longfellows-wedding-show-02-21-2016-4918
END:VEVENT

END:VCALENDAR
