BEGIN:VCALENDAR
VERSION:2.0
PRODID:-//ChamberMaster//Event Calendar 2.0//EN
METHOD:PUBLISH
X-PUBLISHED-TTL:P3D
REFRESH-INTERVAL:P3D
CALSCALE:GREGORIAN
BEGIN:VEVENT
DTSTART:20150423T230000Z
DTEND:20150424T010000Z
X-MICROSOFT-CDO-ALLDAYEVENT:FALSE
SUMMARY:Long Room Lecture - Civil War Dog Tag?s Journey to Brookside
DESCRIPTION:This April is the 150th anniversary of the end of the Civil War. Discover the story behind one of Brookside's most intriguing collection objects. William Secor's identification badge is an early example of military dog tags. Nancy Morris has researched the history of this fascinating item and will share her discoveries. Pre-registration is not required. This lecture is best suited for adults and older students.
X-ALT-DESC;FMTTYPE=text/html:This April is the 150th anniversary of the end of the Civil War. Discover the story behind one of Brookside&#39\;s most intriguing collection objects. William Secor&#39\;s identification badge is an early example of military dog tags. Nancy Morris has researched the history of this fascinating item and will share her discoveries. Pre-registration is not required. This lecture is best suited for adults and older students.
LOCATION:Brookside Museum\, 6 Charlton Street\, Ballston Spa\,
UID:e.2254.7677
SEQUENCE:3
DTSTAMP:20260423T214539Z
URL:https://chamber.saratoga.org/events/details/long-room-lecture-civil-war-dog-tag-s-journey-to-brookside-04-23-2015-7677
END:VEVENT

END:VCALENDAR
