BEGIN:VCALENDAR
VERSION:2.0
PRODID:-//ChamberMaster//Event Calendar 2.0//EN
METHOD:PUBLISH
X-PUBLISHED-TTL:P3D
REFRESH-INTERVAL:P3D
CALSCALE:GREGORIAN
BEGIN:VEVENT
DTSTART:20150409T230000Z
DTEND:20150410T010000Z
X-MICROSOFT-CDO-ALLDAYEVENT:FALSE
SUMMARY:Long Room Lecture - America?s First Step into Space Was Taken at Malta
DESCRIPTION:What does Malta have to do with rockets and explosive experiments? Why did local homes periodically shake and rattle during the 1950s and 1960s? Come learn the fascinating history of the Malta Test Station with Malta Historian Paul Perreault. Pre-registration is not required. This lecture is best suited for adults and older students.
X-ALT-DESC;FMTTYPE=text/html:What does Malta have to do with rockets and explosive experiments? Why did local homes periodically shake and rattle during the 1950s and 1960s? Come learn the fascinating history of the Malta Test Station with Malta Historian Paul Perreault. Pre-registration is not required. This lecture is best suited for adults and older students.
LOCATION:Brookside Museum\, 6 Charlton Street\, Ballston Spa
UID:e.2254.7675
SEQUENCE:3
DTSTAMP:20260423T214518Z
URL:https://chamber.saratoga.org/events/details/long-room-lecture-america-s-first-step-into-space-was-taken-at-malta-04-09-2015-7675
END:VEVENT

END:VCALENDAR
