BEGIN:VCALENDAR
VERSION:2.0
PRODID:-//ChamberMaster//Event Calendar 2.0//EN
METHOD:PUBLISH
X-PUBLISHED-TTL:P3D
REFRESH-INTERVAL:P3D
CALSCALE:GREGORIAN
BEGIN:VEVENT
DTSTART:20140908T190000Z
DTEND:20141118T010000Z
X-MICROSOFT-CDO-ALLDAYEVENT:FALSE
SUMMARY:Lobster Monday - 09/08/2014
DESCRIPTION:3 course mouth watering lobster menu\, $45.00pp\, tax and gratuity not included\, every Monday
X-ALT-DESC;FMTTYPE=text/html:<p>3 course mouth watering lobster menu\, $45.00pp\, tax and gratuity not included\, every Monday </p><br>
LOCATION:Prime at Saratoga National
UID:e.2254.3574
SEQUENCE:3
DTSTAMP:20260424T093418Z
URL:https://chamber.saratoga.org/events/details/lobster-monday-09-08-2014-09-08-2014-3574
END:VEVENT

END:VCALENDAR
