BEGIN:VCALENDAR
VERSION:2.0
PRODID:-//ChamberMaster//Event Calendar 2.0//EN
METHOD:PUBLISH
X-PUBLISHED-TTL:P3D
REFRESH-INTERVAL:P3D
CALSCALE:GREGORIAN
BEGIN:VEVENT
DTSTART:20160819T230000Z
DTEND:20160820T030000Z
X-MICROSOFT-CDO-ALLDAYEVENT:FALSE
SUMMARY:Live Music with Edward T Clifford
DESCRIPTION:Edward T Clifford\, often called the Human Jukebox for his ability to perform your favorite classics just as you remember them. Always easy listening\, tasteful & classy to set the mood or kick it up a notch.
X-ALT-DESC;FMTTYPE=text/html:Edward T Clifford\, often called the Human Jukebox for his ability to perform your favorite classics just as you remember them. Always easy listening\, tasteful &amp\; classy to set the mood or kick it up a notch.
LOCATION:Campagna Restaurant 2452 State Route 9 Malta\, NY 12020
UID:e.2254.17367
SEQUENCE:3
DTSTAMP:20260421T002605Z
URL:https://chamber.saratoga.org/events/details/live-music-with-edward-t-clifford-08-19-2016-17367
END:VEVENT

END:VCALENDAR
