BEGIN:VCALENDAR
VERSION:2.0
PRODID:-//ChamberMaster//Event Calendar 2.0//EN
METHOD:PUBLISH
X-PUBLISHED-TTL:P3D
REFRESH-INTERVAL:P3D
CALSCALE:GREGORIAN
BEGIN:VEVENT
DTSTART:20161001T233000Z
DTEND:20161002T020000Z
X-MICROSOFT-CDO-ALLDAYEVENT:FALSE
SUMMARY:LIVE! Music Series featuring Chuck Lamb
DESCRIPTION:The Chuck Lamb Quartet will be performing at the Universal Preservation Hall on Saturday October 1st. "Lamb sweeps together a stunningly comprehensive approach to the piano. He can p\;ay with the elegance of Teddy Wilson and positively roar with the most leonine gestures.....no exaggerations really\, for his technique is enormous and his imagination seems to know no bunds" - Birch Creek Performance Review We are so excited to be hosting this talented musician and look forward to seeing you all there!
X-ALT-DESC;FMTTYPE=text/html:The Chuck Lamb Quartet will be performing at the Universal Preservation Hall on Saturday October 1st. &quot\;Lamb sweeps together a stunningly comprehensive approach to the piano. He can p\;ay with the elegance of Teddy Wilson and positively roar with the most leonine gestures.....no exaggerations really\, for his technique is enormous and his imagination seems to know no bunds&quot\; - Birch Creek Performance Review We are so excited to be hosting this talented musician and look forward to seeing you all there!
LOCATION:Universal Preservation Hall 25 Washington St Saratoga Springs\, NY 12866
UID:e.2254.17305
SEQUENCE:3
DTSTAMP:20260420T214532Z
URL:https://chamber.saratoga.org/events/details/live-music-series-featuring-chuck-lamb-10-01-2016-17305
END:VEVENT

END:VCALENDAR
