BEGIN:VCALENDAR
VERSION:2.0
PRODID:-//ChamberMaster//Event Calendar 2.0//EN
METHOD:PUBLISH
X-PUBLISHED-TTL:P3D
REFRESH-INTERVAL:P3D
CALSCALE:GREGORIAN
BEGIN:VEVENT
DTSTART:20170209T220000Z
DTEND:20170210T010000Z
X-MICROSOFT-CDO-ALLDAYEVENT:FALSE
SUMMARY:Live Entertainment Nights
DESCRIPTION:Join us for four evenings of entertainment with Russ Kennedy! On Thursday February 9th\, 16\, 23 and March 2 from 5:00 PM until 8:00 PM\, Russ will be performing at Campagna Restaurant\, as the perfect accompaniment to our 4-6:30pm Happy Hour and/or during your meal. Russ Kennedy provides rich\, smooth vocals and a unique guitar style that form his trademark sound. He has played with music legends such as DION\, Don McLean\, Aztec Two Step and Mick Avory of the Kinks\, as well as performing widely in local venues. Don't miss our upcoming live music nights. Thursday February 9\, 16\, 23 and March 2 from 5:00 PM until 8:00 PM\, enjoy your favorite Campagna dishes while listening to the soothing sounds of Russ Kennedy.
X-ALT-DESC;FMTTYPE=text/html:Join us for four evenings of entertainment with Russ Kennedy! On Thursday February 9th\, 16\, 23 and March 2 from 5:00 PM until 8:00 PM\, Russ will be performing at Campagna Restaurant\, as the perfect accompaniment to our 4-6:30pm Happy Hour and/or during your meal. Russ Kennedy provides rich\, smooth vocals and a unique guitar style that form his trademark sound. He has played with music legends such as DION\, Don McLean\, Aztec Two Step and Mick Avory of the Kinks\, as well as performing widely in local venues. Don&rsquo\;t miss our upcoming live music nights. Thursday February 9\, 16\, 23 and March 2 from 5:00 PM until 8:00 PM\, enjoy your favorite Campagna dishes while listening to the soothing sounds of Russ Kennedy.
LOCATION:Campagna Restaurant 2452 State Route 9 Malta\, NY 12020
UID:e.2254.22475
SEQUENCE:3
DTSTAMP:20260420T101656Z
URL:https://chamber.saratoga.org/events/details/live-entertainment-nights-22475
END:VEVENT

END:VCALENDAR
