BEGIN:VCALENDAR
VERSION:2.0
PRODID:-//ChamberMaster//Event Calendar 2.0//EN
METHOD:PUBLISH
X-PUBLISHED-TTL:P3D
REFRESH-INTERVAL:P3D
CALSCALE:GREGORIAN
BEGIN:VEVENT
DTSTART:20151015T133000Z
DTEND:20151017T150000Z
X-MICROSOFT-CDO-ALLDAYEVENT:FALSE
SUMMARY:Little Wonders of Science: Scary Scary Halloween
DESCRIPTION:Little Wonders of Science: Scary Scary Halloween Thursday\, Friday & Saturday\, October 15\, 16 & 17 9:30am & 11am miSci (museum of innovation and science) 15 Nott Terrace Heights\, Schenectady 518-382-7890 / www.miSci.org Children (3-12) $6.50\; Seniors (65+) $8\; Adults $9.50 Contact: Danettte Carll 518-382-7890 x 253 / info@miSci.org Get ready for Halloween! Introduce children ages 3 to 5 to science with an educator reading of Scary Scary Halloween\, educator-led activities\, and hands-on FUN! Stay and play with interactive exhibits throughout the museum before or after Little Wonders of Science\, and be sure to see the special Little Wonders Star Show in the planetarium at 10:30am (add $5 per person). Call 518.382.7890 x 237 to register today!
X-ALT-DESC;FMTTYPE=text/html:Little Wonders of Science: Scary Scary Halloween Thursday\, Friday &amp\; Saturday\, October 15\, 16 &amp\; 17 9:30am &amp\; 11am miSci (museum of innovation and science) 15 Nott Terrace Heights\, Schenectady 518-382-7890 / www.miSci.org Children (3-12) $6.50\; Seniors (65+) $8\; Adults $9.50 Contact: Danettte Carll 518-382-7890 x 253 / info@miSci.org Get ready for Halloween! Introduce children ages 3 to 5 to science with an educator reading of Scary Scary Halloween\, educator-led activities\, and hands-on FUN! Stay and play with interactive exhibits throughout the museum before or after Little Wonders of Science\, and be sure to see the special Little Wonders Star Show in the planetarium at 10:30am (add $5 per person). Call 518.382.7890 x 237 to register today!
LOCATION:miSci (museum of innovation and science) 15 Nott Terrace Heights\, Schenectady
UID:e.2254.12370
SEQUENCE:3
DTSTAMP:20260422T160212Z
URL:https://chamber.saratoga.org/events/details/little-wonders-of-science-scary-scary-halloween-10-15-2015-12370
END:VEVENT

END:VCALENDAR
