BEGIN:VCALENDAR
VERSION:2.0
PRODID:-//ChamberMaster//Event Calendar 2.0//EN
METHOD:PUBLISH
X-PUBLISHED-TTL:P3D
REFRESH-INTERVAL:P3D
CALSCALE:GREGORIAN
BEGIN:VEVENT
DTSTART:20150716T220000Z
DTEND:20150717T020000Z
X-MICROSOFT-CDO-ALLDAYEVENT:FALSE
SUMMARY:Liliane Montevecchi
DESCRIPTION:Star of Film\, Stage and Television\, Paris - born Liliane won both Tony & Drama Desk awards for Best Featured Actress in the Broadway musical Nine. She also starred in Gigi\, hello Dolly\, Irma La Douce and earned another Tony Nomination for Best Actress in Grand Hotel. She's been cast with Fred Astaire\, Leslie Caron\, Jerry Lewis\, Montgomery Clift\, Dean Martin\, Elvis Presley and Marlon Brando. This famed actress\, Follies Bergere dancer and singer will share an intimate evening with you at the 801 Supper Club.
X-ALT-DESC;FMTTYPE=text/html:Star of Film\, Stage and Television\, Paris - born Liliane won both Tony &amp\; Drama Desk awards for Best Featured Actress in the Broadway musical Nine. She also starred in Gigi\, hello Dolly\, Irma La Douce and earned another Tony Nomination for Best Actress in Grand Hotel. She&#39\;s been cast with Fred Astaire\, Leslie Caron\, Jerry Lewis\, Montgomery Clift\, Dean Martin\, Elvis Presley and Marlon Brando. This famed actress\, Follies Bergere dancer and singer will share an intimate evening with you at the 801 Supper Club.
LOCATION:801 Supper Club @ The Mansion Inn 801 Route 29 Rock City Falls NY 12863
UID:e.2254.8356
SEQUENCE:3
DTSTAMP:20260423T040432Z
URL:https://chamber.saratoga.org/events/details/liliane-montevecchi-07-16-2015-8356
END:VEVENT

END:VCALENDAR
